OziExplorer Map Data File Version 2.2
M-35-73 Ëüâîâ
M-35-073.jpg
1 ,Map Code,
Pulkovo 1942 (1),WGS 84, 0.0000, 0.0000,WGS 84
Reserved 1
Reserved 2
Magnetic Variation,,,E
Map Projection,Transverse Mercator,PolyCal,No,AutoCalOnly,No,BSBUseWPX,No
Point01,xy, 98, 141,in, deg, 50, 0.0000,N, 24, 0.0000,E, grid, , , ,N
Point02,xy, 1159, 143,in, deg, 50, 0.0000,N, 24, 15.0000,E, grid, , , ,N
Point03,xy, 2219, 144,in, deg, 50, 0.0000,N, 24, 30.0000,E, grid, , , ,N
Point04,xy, 94, 1242,in, deg, 49, 50.0000,N, 24, 0.0000,E, grid, , , ,N
Point05,xy, 1159, 1240,in, deg, 49, 50.0000,N, 24, 15.0000,E, grid, , , ,N
Point06,xy, 2223, 1241,in, deg, 49, 50.0000,N, 24, 30.0000,E, grid, , , ,N
Point07,xy, 90, 2342,in, deg, 49, 40.0000,N, 24, 0.0000,E, grid, , , ,N
Point08,xy, 1159, 2340,in, deg, 49, 40.0000,N, 24, 15.0000,E, grid, , , ,N
Point09,xy, 2227, 2338,in, deg, 49, 40.0000,N, 24, 30.0000,E, grid, , , ,N
Point10,xy, , ,in, deg, , ,N, , ,E, grid, , , ,N
Point11,xy, , ,in, deg, , ,N, , ,E, grid, , , ,N
Point12,xy, , ,in, deg, , ,N, , ,E, grid, , , ,N
Point13,xy, , ,in, deg, , ,N, , ,E, grid, , , ,N
Point14,xy, , ,in, deg, , ,N, , ,E, grid, , , ,N
Point15,xy, , ,in, deg, , ,N, , ,E, grid, , , ,N
Point16,xy, , ,in, deg, , ,N, , ,E, grid, , , ,N
Point17,xy, , ,in, deg, , ,N, , ,E, grid, , , ,N
Point18,xy, , ,in, deg, , ,N, , ,E, grid, , , ,N
Point19,xy, , ,in, deg, , ,N, , ,E, grid, , , ,N
Point20,xy, , ,in, deg, , ,N, , ,E, grid, , , ,N
Point21,xy, , ,in, deg, , ,N, , ,E, grid, , , ,N
Point22,xy, , ,in, deg, , ,N, , ,E, grid, , , ,N
Point23,xy, , ,in, deg, , ,N, , ,E, grid, , , ,N
Point24,xy, , ,in, deg, , ,N, , ,E, grid, , , ,N
Point25,xy, , ,in, deg, , ,N, , ,E, grid, , , ,N
Point26,xy, , ,in, deg, , ,N, , ,E, grid, , , ,N
Point27,xy, , ,in, deg, , ,N, , ,E, grid, , , ,N
Point28,xy, , ,in, deg, , ,N, , ,E, grid, , , ,N
Point29,xy, , ,in, deg, , ,N, , ,E, grid, , , ,N
Point30,xy, , ,in, deg, , ,N, , ,E, grid, , , ,N
Projection Setup, 0.000000000, 27.000000000, 1.000000000, 5500000.00, 0.00,,,,,
Map Feature = MF ; Map Comment = MC These follow if they exist
Track File = TF These follow if they exist
Moving Map Parameters = MM? These follow if they exist
MM0,Yes
MMPNUM,4
MMPXY,1,98,141
MMPXY,2,2219,144
MMPXY,3,2227,2338
MMPXY,4,90,2342
MMPLL,1, 24.000000, 50.000000
MMPLL,2, 24.500000, 50.000000
MMPLL,3, 24.500000, 49.666667
MMPLL,4, 24.000000, 49.666667
MM1B,16.886051
Other Grid Setup
GRGRID,No,2 Km,No,16711680,255,No Labels,0,16777215,8,1,Yes,No,No,x
MOP,Map Open Position,0,0
IWH,Map Image Width/Height,2318,2575
